BEGIN:VCALENDAR
VERSION:2.0
PRODID:-//All Sport Health &amp; Fitness - ECPv6.15.15//NONSGML v1.0//EN
CALSCALE:GREGORIAN
METHOD:PUBLISH
X-WR-CALNAME:All Sport Health &amp; Fitness
X-ORIGINAL-URL:https://allsporthealthandfitness.com
X-WR-CALDESC:Events for All Sport Health &amp; Fitness
REFRESH-INTERVAL;VALUE=DURATION:PT1H
X-Robots-Tag:noindex
X-PUBLISHED-TTL:PT1H
BEGIN:VTIMEZONE
TZID:America/New_York
BEGIN:DAYLIGHT
TZOFFSETFROM:-0500
TZOFFSETTO:-0400
TZNAME:EDT
DTSTART:20250309T070000
END:DAYLIGHT
BEGIN:STANDARD
TZOFFSETFROM:-0400
TZOFFSETTO:-0500
TZNAME:EST
DTSTART:20251102T060000
END:STANDARD
BEGIN:DAYLIGHT
TZOFFSETFROM:-0500
TZOFFSETTO:-0400
TZNAME:EDT
DTSTART:20260308T070000
END:DAYLIGHT
BEGIN:STANDARD
TZOFFSETFROM:-0400
TZOFFSETTO:-0500
TZNAME:EST
DTSTART:20261101T060000
END:STANDARD
BEGIN:DAYLIGHT
TZOFFSETFROM:-0500
TZOFFSETTO:-0400
TZNAME:EDT
DTSTART:20270314T070000
END:DAYLIGHT
BEGIN:STANDARD
TZOFFSETFROM:-0400
TZOFFSETTO:-0500
TZNAME:EST
DTSTART:20271107T060000
END:STANDARD
END:VTIMEZONE
BEGIN:VEVENT
DTSTART;TZID=America/New_York:20260423T120000
DTEND;TZID=America/New_York:20260423T150000
DTSTAMP:20260423T060314
CREATED:20260422T144745Z
LAST-MODIFIED:20260422T144745Z
UID:10001103-1776945600-1776956400@allsporthealthandfitness.com
SUMMARY:MAHJONG OPEN PLAY
DESCRIPTION:Mahjong Open Play is available for members looking to enjoy a casual\, self-guided game experience. Bring your skills or come ready to learn as you play alongside others in a friendly\, low-pressure environment. No formal instruction\, just great company and engaging gameplay. Feel free to bring your own set or cards if you have them—otherwise\, just show up and play! \nThursdays from 12:00pm – 3:00pm \nCommunity Room \nFREE for Members\nGuest Fee Applies for Non-Members \n*Mahjong Open Play will not be held on days when School’s Out Camp is in session.
URL:https://allsporthealthandfitness.com/event/mahjong-open-play/2026-04-23/
ATTACH;FMTTYPE=image/png:https://allsporthealthandfitness.com/wp-content/uploads/2026/04/mahjong-scaled.png
END:VEVENT
BEGIN:VEVENT
DTSTART;TZID=America/New_York:20260423T170000
DTEND;TZID=America/New_York:20260423T190000
DTSTAMP:20260423T060314
CREATED:20260218T171531Z
LAST-MODIFIED:20260421T203023Z
UID:10001058-1776963600-1776970800@allsporthealthandfitness.com
SUMMARY:FLOWER POWER PICKLEBALL SOCIAL
DESCRIPTION:Get groovy on the courts and celebrate spring with a fun\, high-energy pickleball social! \nPlay\, rotate partners\, make new friends\, and soak up all the good vibes as we rally into the new season together. \nThursday\, April 235:00 – 7:00PM \n$20 Members | $30 Non-Members \nSpots are limited — don’t miss out! \nRegister on the All Sport App  \nOr call the Front Desk at 845-896-5678 \nGrab your paddle\, wear your florals\, and let’s bring the flower power to the courts!
URL:https://allsporthealthandfitness.com/event/flower-power-pickleball-social/
CATEGORIES:pickleball
ATTACH;FMTTYPE=image/png:https://allsporthealthandfitness.com/wp-content/uploads/2026/01/pickleball-social-scaled.png
END:VEVENT
BEGIN:VEVENT
DTSTART;TZID=America/New_York:20260423T170000
DTEND;TZID=America/New_York:20260423T190000
DTSTAMP:20260423T060314
CREATED:20260422T144212Z
LAST-MODIFIED:20260422T144212Z
UID:10001100-1776963600-1776970800@allsporthealthandfitness.com
SUMMARY:Raquetball Social
DESCRIPTION:Join fellow racquetball players for a fun and relaxed social evening!\nAll skill levels are welcome for friendly games and a chance to meet new players. It’s the perfect opportunity to get some court time\, enjoy great competition\, and connect with the racquetball community.\nPlayers will compete in Knockout\, One Up One Down\, and Round Robin style games for a fun and competitive social atmosphere. \n$10 FOR MEMBERS | $20 NON-MEMBERS \nDrinks and Refreshments will be available\nRegister on the All Sport App or at the Front Desk 845-896-5678
URL:https://allsporthealthandfitness.com/event/raquetball-social/2026-04-23/
CATEGORIES:Court Sports
ATTACH;FMTTYPE=image/png:https://allsporthealthandfitness.com/wp-content/uploads/2026/04/raquetball-socials-scaled.png
END:VEVENT
END:VCALENDAR