BEGIN:VCALENDAR
VERSION:2.0
PRODID:-//All Sport Health &amp; Fitness - ECPv6.15.15//NONSGML v1.0//EN
CALSCALE:GREGORIAN
METHOD:PUBLISH
X-ORIGINAL-URL:https://allsporthealthandfitness.com
X-WR-CALDESC:Events for All Sport Health &amp; Fitness
REFRESH-INTERVAL;VALUE=DURATION:PT1H
X-Robots-Tag:noindex
X-PUBLISHED-TTL:PT1H
BEGIN:VTIMEZONE
TZID:America/New_York
BEGIN:DAYLIGHT
TZOFFSETFROM:-0500
TZOFFSETTO:-0400
TZNAME:EDT
DTSTART:20250309T070000
END:DAYLIGHT
BEGIN:STANDARD
TZOFFSETFROM:-0400
TZOFFSETTO:-0500
TZNAME:EST
DTSTART:20251102T060000
END:STANDARD
BEGIN:DAYLIGHT
TZOFFSETFROM:-0500
TZOFFSETTO:-0400
TZNAME:EDT
DTSTART:20260308T070000
END:DAYLIGHT
BEGIN:STANDARD
TZOFFSETFROM:-0400
TZOFFSETTO:-0500
TZNAME:EST
DTSTART:20261101T060000
END:STANDARD
BEGIN:DAYLIGHT
TZOFFSETFROM:-0500
TZOFFSETTO:-0400
TZNAME:EDT
DTSTART:20270314T070000
END:DAYLIGHT
BEGIN:STANDARD
TZOFFSETFROM:-0400
TZOFFSETTO:-0500
TZNAME:EST
DTSTART:20271107T060000
END:STANDARD
END:VTIMEZONE
BEGIN:VEVENT
DTSTART;TZID=America/New_York:20260423T170000
DTEND;TZID=America/New_York:20260423T190000
DTSTAMP:20260423T064308
CREATED:20260422T144212Z
LAST-MODIFIED:20260422T144212Z
UID:10001100-1776963600-1776970800@allsporthealthandfitness.com
SUMMARY:Raquetball Social
DESCRIPTION:Join fellow racquetball players for a fun and relaxed social evening!\nAll skill levels are welcome for friendly games and a chance to meet new players. It’s the perfect opportunity to get some court time\, enjoy great competition\, and connect with the racquetball community.\nPlayers will compete in Knockout\, One Up One Down\, and Round Robin style games for a fun and competitive social atmosphere. \n$10 FOR MEMBERS | $20 NON-MEMBERS \nDrinks and Refreshments will be available\nRegister on the All Sport App or at the Front Desk 845-896-5678
URL:https://allsporthealthandfitness.com/event/raquetball-social/2026-04-23/
CATEGORIES:Court Sports
ATTACH;FMTTYPE=image/png:https://allsporthealthandfitness.com/wp-content/uploads/2026/04/raquetball-socials-scaled.png
END:VEVENT
END:VCALENDAR