BEGIN:VCALENDAR
VERSION:2.0
PRODID:-//All Sport Health &amp; Fitness - ECPv6.15.15//NONSGML v1.0//EN
CALSCALE:GREGORIAN
METHOD:PUBLISH
X-ORIGINAL-URL:https://allsporthealthandfitness.com
X-WR-CALDESC:Events for All Sport Health &amp; Fitness
REFRESH-INTERVAL;VALUE=DURATION:PT1H
X-Robots-Tag:noindex
X-PUBLISHED-TTL:PT1H
BEGIN:VTIMEZONE
TZID:America/New_York
BEGIN:DAYLIGHT
TZOFFSETFROM:-0500
TZOFFSETTO:-0400
TZNAME:EDT
DTSTART:20250309T070000
END:DAYLIGHT
BEGIN:STANDARD
TZOFFSETFROM:-0400
TZOFFSETTO:-0500
TZNAME:EST
DTSTART:20251102T060000
END:STANDARD
BEGIN:DAYLIGHT
TZOFFSETFROM:-0500
TZOFFSETTO:-0400
TZNAME:EDT
DTSTART:20260308T070000
END:DAYLIGHT
BEGIN:STANDARD
TZOFFSETFROM:-0400
TZOFFSETTO:-0500
TZNAME:EST
DTSTART:20261101T060000
END:STANDARD
BEGIN:DAYLIGHT
TZOFFSETFROM:-0500
TZOFFSETTO:-0400
TZNAME:EDT
DTSTART:20270314T070000
END:DAYLIGHT
BEGIN:STANDARD
TZOFFSETFROM:-0400
TZOFFSETTO:-0500
TZNAME:EST
DTSTART:20271107T060000
END:STANDARD
END:VTIMEZONE
BEGIN:VEVENT
DTSTART;TZID=America/New_York:20260502T150000
DTEND;TZID=America/New_York:20260502T160000
DTSTAMP:20260423T180309
CREATED:20260423T162929Z
LAST-MODIFIED:20260422T163534Z
UID:10001369-1777734000-1777737600@allsporthealthandfitness.com
SUMMARY:A Beginner's Guide  to Meditation
DESCRIPTION:This 90-minute workshop teaches fundamental meditation techniques and their benefits to help participants become self-sufficient meditators. It includes practicing and discussing various simple meditation and breathing exercises\, suitable for both beginners and experienced meditators. \nAll are welcome to attend. No Experience necessary\, chairs will be provided \nSaturday\, May 2 at 3:00pm \nElevate Studio \nFree for Members and Non-Members \nRegister on the App or call the Front Desk at 845-896-5678
URL:https://allsporthealthandfitness.com/event/a-beginners-guide-to-meditation/
LOCATION:Elevate
CATEGORIES:Elevate,Group Exercise Programs
ATTACH;FMTTYPE=image/jpeg:https://allsporthealthandfitness.com/wp-content/uploads/2026/04/beginner-meditation-scaled.jpg
END:VEVENT
END:VCALENDAR