BEGIN:VCALENDAR
VERSION:2.0
PRODID:-//All Sport Health &amp; Fitness - ECPv6.15.15//NONSGML v1.0//EN
CALSCALE:GREGORIAN
METHOD:PUBLISH
X-ORIGINAL-URL:https://allsporthealthandfitness.com
X-WR-CALDESC:Events for All Sport Health &amp; Fitness
REFRESH-INTERVAL;VALUE=DURATION:PT1H
X-Robots-Tag:noindex
X-PUBLISHED-TTL:PT1H
BEGIN:VTIMEZONE
TZID:America/New_York
BEGIN:DAYLIGHT
TZOFFSETFROM:-0500
TZOFFSETTO:-0400
TZNAME:EDT
DTSTART:20250309T070000
END:DAYLIGHT
BEGIN:STANDARD
TZOFFSETFROM:-0400
TZOFFSETTO:-0500
TZNAME:EST
DTSTART:20251102T060000
END:STANDARD
BEGIN:DAYLIGHT
TZOFFSETFROM:-0500
TZOFFSETTO:-0400
TZNAME:EDT
DTSTART:20260308T070000
END:DAYLIGHT
BEGIN:STANDARD
TZOFFSETFROM:-0400
TZOFFSETTO:-0500
TZNAME:EST
DTSTART:20261101T060000
END:STANDARD
BEGIN:DAYLIGHT
TZOFFSETFROM:-0500
TZOFFSETTO:-0400
TZNAME:EDT
DTSTART:20270314T070000
END:DAYLIGHT
BEGIN:STANDARD
TZOFFSETFROM:-0400
TZOFFSETTO:-0500
TZNAME:EST
DTSTART:20271107T060000
END:STANDARD
END:VTIMEZONE
BEGIN:VEVENT
DTSTART;TZID=America/New_York:20260425T130000
DTEND;TZID=America/New_York:20260425T140000
DTSTAMP:20260423T060008
CREATED:20260330T142355Z
LAST-MODIFIED:20260421T205209Z
UID:10001096-1777122000-1777125600@allsporthealthandfitness.com
SUMMARY:HYROX TRAINING EXPERIENCE With ASCEND Team Training
DESCRIPTION:This high-energy session is designed to replicate the structure and intensity of a HYROX-style workout\, combining running with functional strength movements like rowing\, lunges\, farmers carries\, and wall balls. Expect a powerful blend of endurance\, strength\, and conditioning—all coached in a supportive\, team-based environment. \nAnd we’re turning up the energy even more with a live DJ on-site\, bringing the beats to keep you moving\, motivated\, and locked in from start to finish. Think competition vibes\, high energy\, and a workout that feels more like an event. 🎧🔥 \nWhether you’re training for an upcoming HYROX event or just ready to challenge yourself with a new style of performance-driven training\, this experience is for you. All fitness levels are welcome\, with modifications provided. \nEnjoy complimentary snacks and cocktails in the lobby after the workout—because you’ve earned it. \nCome ready to sweat\, push your limits\, and experience the future of ASCEND training. \nTRAIN WITH PURPOSE. TRAIN TOGETHER. EXPERIENCE HYROX TRAINING WITH ASCEND. \n\n\n$25 Members$35 Non-MembersASCEND Packages Apply \nCome ready to sweat\, compete\, and level up your training. \nRegister on the All Sport App or at the Front Desk.
URL:https://allsporthealthandfitness.com/event/hyrox-training-experience-with-ascend-team-training-3/
LOCATION:Indoor Gym\, 17 Old Main Street\, Fishkill\, NY\, 12524\, United States
CATEGORIES:ASCEND,Group Exercise Programs
ATTACH;FMTTYPE=image/jpeg:https://allsporthealthandfitness.com/wp-content/uploads/2026/03/dj-kevin-hyrox-event-scaled.jpg
END:VEVENT
BEGIN:VEVENT
DTSTART;TZID=America/New_York:20260430T180000
DTEND;TZID=America/New_York:20260430T190000
DTSTAMP:20260423T060008
CREATED:20260319T162816Z
LAST-MODIFIED:20260421T184812Z
UID:10001088-1777572000-1777575600@allsporthealthandfitness.com
SUMMARY:All Sport Run Club
DESCRIPTION:Spring Miles Start Here \nThis April\, lace up and hit the pavement with the All Sport Run Club—a fun\, supportive community built for every level of runner. From first-mile beginners to seasoned racers and HYROX athletes\, this is your place to move\, improve\, and enjoy the run. \nWhether you’re training for a race\, building endurance\, or just soaking in the fresh Hudson Valley spring air\, every run is better together. Let’s push limits\, stay motivated\, and have some fun along the way. \nUpcoming Runs:April 4 – 7:15 AMApril 8 – 8:00 AMApril 18 – 7:15 AMApril 21 – 6:00 PMApril 30 – 6:00 PM \nLocation:Sarah Taylor Park7 Old Main St\, Fishkill\, NY 12524 \n Register on the app Or call the front desk: 845-896-5678 \nSessions with zero enrollment the evening prior will be cancelled. \nRun with us.
URL:https://allsporthealthandfitness.com/event/all-sport-run-club/2026-04-30/
LOCATION:Sarah Taylor Park\, 7 OLD MAIN ST\, Fishkill\, NY\, 12524\, United States
CATEGORIES:Group Exercise Programs
ATTACH;FMTTYPE=image/jpeg:https://allsporthealthandfitness.com/wp-content/uploads/2026/03/run-club-scaled.jpg
END:VEVENT
END:VCALENDAR