BEGIN:VCALENDAR
VERSION:2.0
PRODID:-//All Sport Health &amp; Fitness - ECPv6.15.15//NONSGML v1.0//EN
CALSCALE:GREGORIAN
METHOD:PUBLISH
X-ORIGINAL-URL:https://allsporthealthandfitness.com
X-WR-CALDESC:Events for All Sport Health &amp; Fitness
REFRESH-INTERVAL;VALUE=DURATION:PT1H
X-Robots-Tag:noindex
X-PUBLISHED-TTL:PT1H
BEGIN:VTIMEZONE
TZID:America/New_York
BEGIN:DAYLIGHT
TZOFFSETFROM:-0500
TZOFFSETTO:-0400
TZNAME:EDT
DTSTART:20250309T070000
END:DAYLIGHT
BEGIN:STANDARD
TZOFFSETFROM:-0400
TZOFFSETTO:-0500
TZNAME:EST
DTSTART:20251102T060000
END:STANDARD
BEGIN:DAYLIGHT
TZOFFSETFROM:-0500
TZOFFSETTO:-0400
TZNAME:EDT
DTSTART:20260308T070000
END:DAYLIGHT
BEGIN:STANDARD
TZOFFSETFROM:-0400
TZOFFSETTO:-0500
TZNAME:EST
DTSTART:20261101T060000
END:STANDARD
BEGIN:DAYLIGHT
TZOFFSETFROM:-0500
TZOFFSETTO:-0400
TZNAME:EDT
DTSTART:20270314T070000
END:DAYLIGHT
BEGIN:STANDARD
TZOFFSETFROM:-0400
TZOFFSETTO:-0500
TZNAME:EST
DTSTART:20271107T060000
END:STANDARD
END:VTIMEZONE
BEGIN:VEVENT
DTSTART;TZID=America/New_York:20260505T181500
DTEND;TZID=America/New_York:20260505T190000
DTSTAMP:20260423T184433
CREATED:20260422T160017Z
LAST-MODIFIED:20260422T160017Z
UID:10001368-1778004900-1778007600@allsporthealthandfitness.com
SUMMARY:Cinco De Cycle Fiesta Rides
DESCRIPTION:Celebrate Cinco de Mayo with two spicy Cycle Rides\, 9:15 AM with Diana and 6:15 PM with Britt!!\n\n\n \n\n\nIndulge in ‘margarita’ electrolyte shots pre-class and protein shake samples post class!!\n\n\n \n\n\nTuesday\, May 5th at 9:15 AM and 6:15 PM\n\n\nCycle Studio\n\n\nFREE for Members Guest Fee Applies for Non-Members\n\n\n \n\n\nREGISTER ON THE APP OR CALL THE FRONT DESK AT 845-896-5678 \n\n\n \n\n\n*The cinco de cycle ride will replace the regular 9:15am and 6:15pm cycle class.
URL:https://allsporthealthandfitness.com/event/cinco-de-cycle-fiesta-rides/2026-05-05/2/
LOCATION:Cycle Studio
CATEGORIES:Group Exercise Programs
ATTACH;FMTTYPE=image/jpeg:https://allsporthealthandfitness.com/wp-content/uploads/2026/04/cinco-de-cycle--scaled.jpg
END:VEVENT
BEGIN:VEVENT
DTSTART;TZID=America/New_York:20260509T110000
DTEND;TZID=America/New_York:20260509T123000
DTSTAMP:20260423T184433
CREATED:20260422T150636Z
LAST-MODIFIED:20260422T150636Z
UID:10001365-1778324400-1778329800@allsporthealthandfitness.com
SUMMARY:Mother's Day: Mommy and Me Pilates
DESCRIPTION:Celebrate Mother’s Day with movement with your little one.\n\n\nJoin us for our special Mommy & Me Mat Pilates classes designed with your family in mind.\n\n\n We’re offering two sessions to meet you where you are in motherhood:\n\n\n\nBabies 6–12 months (11:00am-11:45am)\n\n\nBabies 12–24 months (12:00pm-12:45pm)\n\n\n\nAs a little treat\, each mom will receive a curated swag bag filled with goodies to make your day even more special.\n\n\n \n\n\nSaturday\, May 9  Mommy & Me (6-12 mos.) 11:00am-11:45am\n\n\nMommy & Me (12-24 mos.) 12:00pm-12:45pm Yoga Wall\n\n\n \n\n\nMember: $20/family | Non-Members: $30/family\n\n\nPlease Register on the All Sport App or at the Front Desk! Spots are limited.
URL:https://allsporthealthandfitness.com/event/mothers-day-mommy-and-me-pilates/
LOCATION:ReForm Pilates Studio\, 17 Old Main Street\, Fishkill\, NY\, 12524\, United States
CATEGORIES:Group Exercise Programs,Reform Pilates
ATTACH;FMTTYPE=image/png:https://allsporthealthandfitness.com/wp-content/uploads/2026/04/mommy-and-me-class-scaled.png
END:VEVENT
END:VCALENDAR